BEGIN:VCALENDAR
VERSION:2.0
PRODID:floktu.com
X-WR-TIMEZONE:Australia/Sydney
X-PUBLISHED-TTL:P1W
BEGIN:VEVENT
UID:FloktuEvent34121@floktu.com
DTSTART;TZID=Australia/Sydney:20251231T100000
SEQUENCE:0
TRANSP:OPAQUE
DTEND;TZID=Australia/Sydney:20251231T140000
LOCATION:India\, \, \, 
SUMMARY:Mens Shirt
DESCRIPTION:Visit https://mensshirt.floktu.com for more information.
DTSTAMP:20260421T175538Z
END:VEVENT
BEGIN:VTIMEZONE
TZID:Australia/Sydney
X-LIC-LOCATION:Australia/Sydney
END:VTIMEZONE
END:VCALENDAR