BEGIN:VCALENDAR
VERSION:2.0
PRODID:floktu.com
X-PUBLISHED-TTL:P1W
BEGIN:VEVENT
UID:FloktuEvent34121@floktu.com
DTSTART:20251230T230000Z
SEQUENCE:0
TRANSP:OPAQUE
DTEND:20251231T030000Z
LOCATION:India\, \, \, 
SUMMARY:Mens Shirt
DESCRIPTION:Visit https://mensshirt.floktu.com for more information.
DTSTAMP:20260421T174935Z
END:VEVENT
END:VCALENDAR